BEGIN:VCALENDAR
VERSION:2.0
PRODID:-//Sola Travels - ECPv6.15.15//NONSGML v1.0//EN
CALSCALE:GREGORIAN
METHOD:PUBLISH
X-WR-CALNAME:Sola Travels
X-ORIGINAL-URL:https://solatravels.com
X-WR-CALDESC:Events for Sola Travels
REFRESH-INTERVAL;VALUE=DURATION:PT1H
X-Robots-Tag:noindex
X-PUBLISHED-TTL:PT1H
BEGIN:VTIMEZONE
TZID:UTC
BEGIN:STANDARD
TZOFFSETFROM:+0000
TZOFFSETTO:+0000
TZNAME:UTC
DTSTART:20250101T000000
END:STANDARD
END:VTIMEZONE
BEGIN:VTIMEZONE
TZID:UTC
BEGIN:STANDARD
TZOFFSETFROM:+0000
TZOFFSETTO:+0000
TZNAME:UTC
DTSTART:20210101T000000
END:STANDARD
END:VTIMEZONE
BEGIN:VEVENT
DTSTART;TZID=UTC:20260224T090000
DTEND;TZID=UTC:20260226T170000
DTSTAMP:20260421T210625
CREATED:20210317T033032Z
LAST-MODIFIED:20260203T060832Z
UID:515-1771923600-1772125200@solatravels.com
SUMMARY:Punakha Dromchoe- Punakha Dzong
DESCRIPTION:Punakha Dromchoe (or Drubchen) is a vibrant\, annual Bhutanese festival at Punakha Dzong\, dramatically re-enacting the 17th-century victory over Tibetan invaders through mock battles by local militia (Pazaps) in full gear\, alongside sacred dances honoring guardian deities and concluding with the symbolic immersion of a sacred relic (Rangjung Kharsapani) into the Mochhu River\, celebrating Bhutan’s history and spiritual heritage. \n \nHistorical Commemoration: Celebrates Bhutan’s defense against Tibetan forces\, a pivotal moment led by Zhabdrung Ngawang Namgyel. \nThe “Pazap” Militia: Local men from Thimphu and Punakha form a militia\, donning traditional armor and swords to stage battle scenes\, a tradition from when Bhutan lacked a standing army. \nSacred Rituals: Features Cham (mask dances) and the Norbu Chushani ceremony\, where the sacred relic is immersed in the river\, symbolizing purification. \nLocation: Held at the historic and stunning Punakha Dzong. \nTiming: Typically in the first month of the Bhutanese lunar calendar (February/March). \nWhat to Expect: \nBattle Reenactments: The dramatic Serda procession showing warriors marching to war. \nMask Dances: Performed by monks in elaborate costumes\, representing deities and historical events. \nCultural Immersion: A chance to witness Bhutan’s deep spiritual beliefs and martial history. \nSignificance: \nHonors protector deities like Mahakala and Palden Lhamo. \nA powerful display of national identity\, spiritual devotion\, and cultural pride
URL:https://solatravels.com/event/punakha-dromchoe-punakha-dzong/
LOCATION:New York\, 8 King Street\, NY\, 101\, United States
CATEGORIES:Seminars
ATTACH;FMTTYPE=image/jpeg:https://solatravels.com/wp-content/uploads/2021/09/bhutan-tour-10.jpg
ORGANIZER;CN="Gary Jones":MAILTO:halpes@example.com
END:VEVENT
BEGIN:VEVENT
DTSTART;TZID=UTC:20220509T080000
DTEND;TZID=UTC:20220509T170000
DTSTAMP:20260421T210625
CREATED:20210304T031217Z
LAST-MODIFIED:20260203T121812Z
UID:447-1652083200-1652115600@solatravels.com
SUMMARY:Tour of the Dragon (Mountain Bike Race)
DESCRIPTION:Tour Of The Dragon Bicycle Race – The tour of Dragon race starts from Bumthang district in central Bhutan and finishes in the capital Thimphu covering a total distance of 268 kilometers over four mountain passes ranging from 2800 meters to 3500 meters in elevation. In the ten-to-fifteen-hour journey\, racers will experience drastic change in elevation\, fight tough Himalayan terrains all the while dealing with the thin mountain air. It is one of the toughest one day mountain bike races in the world. Many people across the globe come to participate in this competition of which many have failed to complete the race. Determined to either complete or win the race\, the competition gets many repeat participants every year. Heavenly Bhutan had been part of this event since the event was launched. HBT gives firsthand information of the cycling trail\, elevation and nature of the journey for the competition\, which will help you to prepare to be best competitor for the race. Book your trip with SOLA Tours & Travels and enjoy the world toughest one day mountain biking race in Bhutan.
URL:https://solatravels.com/event/tour-of-the-dragon-mountain-bike-race/
LOCATION:Bhutan\, Bhutan
CATEGORIES:Seminars
ATTACH;FMTTYPE=image/jpeg:https://solatravels.com/wp-content/uploads/2021/03/images-6.jpg
ORGANIZER;CN="Gary Jones":MAILTO:halpes@example.com
END:VEVENT
BEGIN:VEVENT
DTSTART;TZID=UTC:20220509T080000
DTEND;TZID=UTC:20220509T170000
DTSTAMP:20260421T210625
CREATED:20210304T031114Z
LAST-MODIFIED:20210304T031114Z
UID:446-1652083200-1652115600@solatravels.com
SUMMARY:Designing Club Culture
DESCRIPTION:Sed ut perspiciatis unde omnis iste natus error sit voluptatem accusantium doloremque laudantium\, totam rem aperiam\, eaque ipsa quae ab illo. \nSed ut perspiciatis unde omnis iste natus error sit voluptatem accusantium doloremque laudantium\, totam rem aperiam\, eaque ipsa quae ab illo inventore veritatis et quasi architecto beatae vitae dicta sunt explicabo. Nemo enim ipsam voluptatem quia voluptas sit aspernatur aut odit aut fugit\, sed quia consequuntur magni dolores eos qui ratione voluptatem sequi nesciunt.
URL:https://solatravels.com/event/designing-club-culture/
LOCATION:New York\, 8 King Street\, NY\, 101\, United States
CATEGORIES:Seminars
ORGANIZER;CN="Gary Jones":MAILTO:halpes@example.com
END:VEVENT
BEGIN:VEVENT
DTSTART;TZID=UTC:20220509T000000
DTEND;TZID=UTC:20220509T000000
DTSTAMP:20260421T210625
CREATED:20210304T030315Z
LAST-MODIFIED:20260209T072152Z
UID:440-1652054400-1652054400@solatravels.com
SUMMARY:Festival of Architecture and Interior
DESCRIPTION:Bhutanese architecture is a distinct\, traditional style characterized by rammed earth\, stone\, and timber construction\, designed to exist in harmony with nature. Key features include sloped roofs\, intricate woodcarvings\, and\, by law\, multi-colored wooden frontages\, without the use of nails or iron bars. Interiors are often earthy with minimalist\, warm\, and functional spaces. \nKey Architectural Features\nDzongs (Fortresses): These massive\, white-walled structures serve as religious and administrative centers with\, small\, high-placed windows and\, heavy\, timber framing.\nTraditional Houses: Typically\, 2–3 storied\, these feature whitewashed stone/rammed earth walls\, with the top level often being an open\, veranda or attic.\nSymbolism: Buildings often feature\, elaborate\, paintings\, of\, animals\, or religious symbols like phalluses\, to\, ward\, off\, evil\, and\, bring\, good\, luck.\nStructural Techniques: No nails or iron bars are used; structural integrity relies on complex\, wooden\, joints\, and\, wooden\, pegs\, (dowels).\nRoofing: Sloping roofs with\, timber shingles\, are\, common\, to\, handle\, heavy\, rain\, and\, snow\,\nInterior Design Characteristics\nNatural Materials: Interiors heavily feature timber\, stone\, and earth.\nWoodwork: Intricately carved\, windows\, and\, pillars\, (known\, as\, karchoen) are staples of\, living\, spaces.\nColor Palette: Warm\, earthy\, tones\, (white\, beige\, brown) are\, complemented\, by\, vibrant\, reds\, and\, greens\, on\, window\, frames.\nFunctionality: Often\, the\, ground\, floor\, is\, used\, for\, storage\, or\, livestock\, while\, the\, upper\, floors\, house\, living\, quarters\, and\, a\, sacred\, room\, (altar).\nModern Interpretation: Modern luxury hotels\, like the Six Senses Bhutan\, often\, re-imagine\, these\, traditional\, concepts\, using\, local\, materials\, and\, respecting\, the\, surrounding\, landscape. \n 
URL:https://solatravels.com/event/festival-of-architecture-and-interior/
LOCATION:New York\, 8 King Street\, NY\, 101\, United States
CATEGORIES:Seminars
ORGANIZER;CN="Gary Jones":MAILTO:halpes@example.com
END:VEVENT
END:VCALENDAR